BEGIN:VCALENDAR
VERSION:2.0
PRODID:-//RWV Bamberg - ECPv6.15.14//NONSGML v1.0//EN
CALSCALE:GREGORIAN
METHOD:PUBLISH
X-ORIGINAL-URL:https://rwv-bamberg.de
X-WR-CALDESC:Veranstaltungen für RWV Bamberg
REFRESH-INTERVAL;VALUE=DURATION:PT1H
X-Robots-Tag:noindex
X-PUBLISHED-TTL:PT1H
BEGIN:VTIMEZONE
TZID:Europe/Berlin
BEGIN:DAYLIGHT
TZOFFSETFROM:+0100
TZOFFSETTO:+0200
TZNAME:CEST
DTSTART:20240331T010000
END:DAYLIGHT
BEGIN:STANDARD
TZOFFSETFROM:+0200
TZOFFSETTO:+0100
TZNAME:CET
DTSTART:20241027T010000
END:STANDARD
BEGIN:DAYLIGHT
TZOFFSETFROM:+0100
TZOFFSETTO:+0200
TZNAME:CEST
DTSTART:20250330T010000
END:DAYLIGHT
BEGIN:STANDARD
TZOFFSETFROM:+0200
TZOFFSETTO:+0100
TZNAME:CET
DTSTART:20251026T010000
END:STANDARD
BEGIN:DAYLIGHT
TZOFFSETFROM:+0100
TZOFFSETTO:+0200
TZNAME:CEST
DTSTART:20260329T010000
END:DAYLIGHT
BEGIN:STANDARD
TZOFFSETFROM:+0200
TZOFFSETTO:+0100
TZNAME:CET
DTSTART:20261025T010000
END:STANDARD
END:VTIMEZONE
BEGIN:VEVENT
DTSTART;TZID=Europe/Berlin:20251127T193000
DTEND;TZID=Europe/Berlin:20251127T210000
DTSTAMP:20260423T105823
CREATED:20260122T094053Z
LAST-MODIFIED:20260317T120720Z
UID:15943-1764271800-1764277200@rwv-bamberg.de
SUMMARY:"Wagners Welttheater"
DESCRIPTION:Vor­trag und Buch­vor­stel­lung von und mit Bernd Buchner
URL:https://rwv-bamberg.de/termin/wagners-welttheater/
LOCATION:Kufa-Saal\, Ohmstraße 3\, 96050 Bamberg\, Bayern
ORGANIZER;CN="RWV Bamberg in Kooperation mit der Kufa":MAILTO:info@rwv-bamberg.de
END:VEVENT
BEGIN:VEVENT
DTSTART;TZID=Europe/Berlin:20251130T160000
DTEND;TZID=Europe/Berlin:20251130T180000
DTSTAMP:20260423T105823
CREATED:20260122T093433Z
LAST-MODIFIED:20260317T120641Z
UID:15941-1764518400-1764525600@rwv-bamberg.de
SUMMARY:Wagner-Weihnacht 2025
DESCRIPTION:mit Hugo Schol­ter und den „Me­tall­o­pho­ni­kern“
URL:https://rwv-bamberg.de/termin/wagner-weihnacht-2025/
LOCATION:Hotel Bamberger Hof\, Schönleinsplatz 4\, 96047 Bamberg
ORGANIZER;CN="RWV Bamberg":MAILTO:info@rwv-bamberg.de
END:VEVENT
END:VCALENDAR